BEGIN:VCALENDAR
PRODID:-//event//iCal4j 1.0//EN
CALSCALE:GREGORIAN
BEGIN:VEVENT
DTSTAMP:20260423T184940Z
DTSTART:20200315T130000Z
DTEND:20200315T220000Z
SUMMARY:gac20200225
LOCATION:Chicago: James R. Thompson Center 100 West Randolph Chicago\, IL
     0\; Springfield: Capitol City Training Center Room 104 130 West Maso
 n Street Springfield\, IL    0
END:VEVENT
END:VCALENDAR
