BEGIN:VCALENDAR
PRODID:-//event//iCal4j 1.0//EN
CALSCALE:GREGORIAN
BEGIN:VEVENT
DTSTAMP:20260420T164238Z
DTSTART:20260513T150000Z
DTEND:20260513T160000Z
SUMMARY:ssub20260513
LOCATION:
END:VEVENT
END:VCALENDAR
