BEGIN:VCALENDAR
PRODID:-//event//iCal4j 1.0//EN
CALSCALE:GREGORIAN
BEGIN:VEVENT
DTSTAMP:20260423T050206Z
DTSTART:20260610T150000Z
DTEND:20260610T160000Z
SUMMARY:ssub20260610
LOCATION:
END:VEVENT
END:VCALENDAR
